BEGIN:VCALENDAR
PRODID:-//AT Content Types//AT Event//EN
VERSION:2.0
METHOD:PUBLISH
BEGIN:VEVENT
DTSTAMP:20260426T024902Z
CREATED:20120518T122037Z
UID:ATEvent-ba33e4b8ad175e3675c91707874f6ed3
LAST-MODIFIED:20120518T122951Z
SUMMARY:ITU Centre of Excellence elearning course\: “Future Internet”\, 29 May – 25 June 2012
DTSTART:20120529T070000Z
DTEND:20120625T190000Z
CLASS:PUBLIC
END:VEVENT
END:VCALENDAR
