BEGIN:VCALENDAR
PRODID:-//AT Content Types//AT Event//EN
VERSION:2.0
METHOD:PUBLISH
BEGIN:VEVENT
DTSTAMP:20260426T025026Z
CREATED:20171116T100106Z
UID:ATEvent-b152c8a83779af5b43c3d3ae8dd4cede
LAST-MODIFIED:20181109T132852Z
SUMMARY:ITU Centre of Excellence elearning course\: “Giga Speed Wireless and Mobile Broadband Internet”\, 21 November - 18 December 2017
DTSTART:20171120T230000Z
DTEND:20171217T230000Z
CLASS:PUBLIC
END:VEVENT
END:VCALENDAR
