BEGIN:VCALENDAR
PRODID:-//AT Content Types//AT Event//EN
VERSION:1.0
BEGIN:VEVENT
DTSTART:20111122T102500Z
DTEND:20111219T102500Z
DCREATED:20111108T102514Z
UID:ATEvent-ccc8b9b4eb600a79d50b5f3ad83369e4
SEQUENCE:0
LAST-MODIFIED:20111108T122104Z
SUMMARY:ITU Centre of Excellence elearning course\: “Next Generation Mobile and Wireless Networks”
PRIORITY:3
TRANSP:0
END:VEVENT
END:VCALENDAR
