BEGIN:VCALENDAR
PRODID:-//AT Content Types//AT Event//EN
VERSION:1.0
BEGIN:VEVENT
DTSTART:20190527T221000Z
DTEND:20190624T215500Z
DCREATED:20190515T131241Z
UID:ATEvent-773703d7fd7b9e3df41b514fcbf2fa1d
SEQUENCE:0
LAST-MODIFIED:20190515T132217Z
SUMMARY:ITU Centre of Excellence elearning course\: “NGN Evolution\, Future Networks and Ultra-Broadband Internet”
PRIORITY:3
TRANSP:0
END:VEVENT
END:VCALENDAR
